BEGIN:VCALENDAR
VERSION:2.0
PRODID:-//Redefiningvision.org - ECPv6.15.1.1//NONSGML v1.0//EN
CALSCALE:GREGORIAN
METHOD:PUBLISH
X-ORIGINAL-URL:https://redefiningvision.org
X-WR-CALDESC:Events for Redefiningvision.org
REFRESH-INTERVAL;VALUE=DURATION:PT1H
X-Robots-Tag:noindex
X-PUBLISHED-TTL:PT1H
BEGIN:VTIMEZONE
TZID:UTC
BEGIN:STANDARD
TZOFFSETFROM:+0000
TZOFFSETTO:+0000
TZNAME:UTC
DTSTART:20160101T000000
END:STANDARD
END:VTIMEZONE
BEGIN:VEVENT
DTSTART;TZID=UTC:20171207T080000
DTEND;TZID=UTC:20171207T090000
DTSTAMP:20260423T155111
CREATED:20171113T084444Z
LAST-MODIFIED:20171113T084444Z
UID:9055-1512633600-1512637200@redefiningvision.org
SUMMARY:Donor Appreciation Breakfast
DESCRIPTION:Share this:EmailFacebookLinkedInTwitter
URL:https://redefiningvision.org/event/donor-appreciation-breakfast/
CATEGORIES:Fundraiser
END:VEVENT
BEGIN:VEVENT
DTSTART;VALUE=DATE:20171124
DTEND;VALUE=DATE:20171125
DTSTAMP:20260423T155111
CREATED:20161209T013337Z
LAST-MODIFIED:20161209T013337Z
UID:7936-1511481600-1511567999@redefiningvision.org
SUMMARY:Day after Thanksgiving
DESCRIPTION:Seattle\, Spokane\, Summerville\, and BSC facilities are closed. \nShare this:EmailFacebookLinkedInTwitter
URL:https://redefiningvision.org/event/day-after-thanksgiving-2/
CATEGORIES:Holidays
END:VEVENT
BEGIN:VEVENT
DTSTART;VALUE=DATE:20171123
DTEND;VALUE=DATE:20171124
DTSTAMP:20260423T155111
CREATED:20161209T013237Z
LAST-MODIFIED:20161209T013237Z
UID:7934-1511395200-1511481599@redefiningvision.org
SUMMARY:Thanksgiving Day
DESCRIPTION:Seattle\, Spokane\, Summerville\, BSCs\, and CMS facilities are closed. \nShare this:EmailFacebookLinkedInTwitter
URL:https://redefiningvision.org/event/thanksgiving-day-2/
CATEGORIES:Holidays
END:VEVENT
BEGIN:VEVENT
DTSTART;TZID=UTC:20171116T120000
DTEND;TZID=UTC:20171116T133000
DTSTAMP:20260423T155111
CREATED:20171024T033513Z
LAST-MODIFIED:20171024T033513Z
UID:9013-1510833600-1510839000@redefiningvision.org
SUMMARY:Get to Know the Lighthouse - Giving Thanks
DESCRIPTION:November is about giving thanks! At The Lighthouse for the Blind\, Inc. our employees are thankful every day for the support we are able to provide for them to be successful and independent. Join us on Thursday\, November 16th for our final “Get To Know” the Lighthouse event in 2017 and together we can share the many reasons we can all be giving thanks for the Lighthouse.\n\nWe invite you to extend your lunch hour and take part in a tour\, employee presentation\, and more to learn how for more than 99 years\, the Lighthouse has been breaking down barriers to employment\, celebrating the abilities of each individual\, and providing opportunities for growth of employees who are blind\, DeafBlind\, and blind with other disabilities.\n\nOur “Get To Know” the Lighthouse event is a great way for you to not only tour our facility\, but ask questions of employees\, learn of our rich history\, make connections\, and hopefully discover ways you can partner with us in our future.\nWe know you’ll be glad you came!\n\nWhen: Thursday\, November 16th\, 2017\, 12:00 p.m. – 1:30 p.m.\nWhere: 2501 S. Plum Street\, Seattle\, WA 98144 – Boardroom\n\nCome on your own or bring a friend. This is a great team-building project for the office or a club. All are welcome. You’re sure to be inspired! Lunch will be provided!\n\nRSVP to Cindy Van Winkle at cvanwinkle@seattlelh.org or (206) 436-2264. If you have any accommodation requests please let us know by Friday\, November 3rd.\nShare this:EmailFacebookLinkedInTwitter
URL:https://redefiningvision.org/event/get-know-lighthouse-giving-thanks/
CATEGORIES:Fundraiser,Seattle Events
ATTACH;FMTTYPE=:
END:VEVENT
BEGIN:VEVENT
DTSTART;TZID=UTC:20171113T110000
DTEND;TZID=UTC:20171114T010000
DTSTAMP:20260423T155111
CREATED:20171023T200028Z
LAST-MODIFIED:20171023T200028Z
UID:8988-1510570800-1510621200@redefiningvision.org
SUMMARY:Eat Wings for the Lighthouse!
DESCRIPTION:Please join The Lighthouse for the Blind\, Inc. at Buffalo Wild Wings at North Town Mall in Spokane\, WA on Monday\, November 13th! Buffalo Wild Wings will donate 10% of proceeds to the Lighthouse when you present a flyer\, or mention the Lighthouse’s name to your server from 11:00 a.m. to 1:00 a.m. \nBuffalo Wild Wings flyer to support the Lighthouse – Click here to download PDF\nStop by our Lighthouse table between 4:00 p.m. and 8:00 p.m. to check out some of our products manufactured at our Spokane facility. We will have some exciting door prizes for a couple of lucky winners! Make sure you leave your information. \nBe sure to bring a friend\, co-worker\, or your entire family out for this wonderful event. Happy hour is between 2:00 p.m. and 7:00 p.m. and 10:00 p.m. until close. Buffalo Wild Wings is a family friendly establishment\, so feel free to bring your children with you. Braille menus will also be provided at the event\, please ask your server for a copy. \nEvent Details:  \nMonday\, November 13th\, 2017\n11:00 a.m. – 1:00 a.m.\nBuffalo Wild Wings\, North Town Mall\n4750 North Division St\, Spokane WA\, 99207 \nFor more information about this event\, please contact Greg Szabo at (509) 487-0405 or by email at gszabo@seattlelh.org \nSaveSave \nSaveSave \nShare this:EmailFacebookLinkedInTwitter
URL:https://redefiningvision.org/event/eat-wings-lighthouse/
CATEGORIES:Fundraiser,Spokane Events
ATTACH;FMTTYPE=:
END:VEVENT
BEGIN:VEVENT
DTSTART;TZID=UTC:20171111T110000
DTEND;TZID=UTC:20171111T130000
DTSTAMP:20260423T155111
CREATED:20161216T004315Z
LAST-MODIFIED:20161216T004315Z
UID:7966-1510398000-1510405200@redefiningvision.org
SUMMARY:Dim Sum Lunch
DESCRIPTION:The Lighthouse for the Blind\, Inc.’s Foundation Board Member Howie Dickerman invites you to join him for Dim Sum! It’s really quite simple: the Dim Sum is on Howie\, and he asks everyone who attends to make a $50 contribution to the Lighthouse.   If you’re a fan of Chinese Dim Sum\, please join us.  And if you have some friends who also like to eat Dim Sum\, please bring them along – the more the merrier! This is a great opportunity to learn more about this fantastic organization while eating delicious food and enjoying great conversation with friends\, co-workers\, and the Lighthouse community.  For more information\, please contact Molly McLachlan at (206) 436-2253 or via email at mmclachlan@seattlelh.org. \nShare this:EmailFacebookLinkedInTwitter
URL:https://redefiningvision.org/event/dim-sum-lunch/
CATEGORIES:Fundraiser,Seattle Events
ATTACH;FMTTYPE=:
END:VEVENT
BEGIN:VEVENT
DTSTART;VALUE=DATE:20171110
DTEND;VALUE=DATE:20171111
DTSTAMP:20260423T155111
CREATED:20161209T013204Z
LAST-MODIFIED:20161209T013204Z
UID:7932-1510272000-1510358399@redefiningvision.org
SUMMARY:Veterans Day
DESCRIPTION:BSCs and CMS facilities are closed. \nShare this:EmailFacebookLinkedInTwitter
URL:https://redefiningvision.org/event/veterans-day-2/
CATEGORIES:Holidays
END:VEVENT
BEGIN:VEVENT
DTSTART;TZID=UTC:20171011T110000
DTEND;TZID=UTC:20171011T121500
DTSTAMP:20260423T155111
CREATED:20170922T225054Z
LAST-MODIFIED:20170922T225054Z
UID:8720-1507719600-1507724100@redefiningvision.org
SUMMARY:Get to Know the Lighthouse - Harvesting Opportunities
DESCRIPTION:October is almost here! Embrace the fall season with the Lighthouse at our Harvesting Opportunities event. Join us on Wednesday\, October 11th for our next “Get To Know” the Lighthouse series. \nFor over 99 years\, the Lighthouse has been breaking down barriers to employment\, celebrating the abilities of each individual\, and providing opportunities for growth of employees who are blind\, DeafBlind\, and blind with other disabilities. \nOur Get To Know the Lighthouse event is a great way for you to not only tour our facility\, but ask questions of employees\, learn of our rich history\, make connections\, and hopefully discover ways you can partner with us in our future. We know you’ll be glad you came! \nWhen: Wednesday\, October 11th\, 2017\, 11:00 a.m. – 12:15 a.m. \nWhere: 2501 S. Plum Street\, Seattle\, WA 98144 – Boardroom \nCome on your own or bring a friend. This is a great team-building project for the office or a club. All are welcome. You’re sure to be inspired! Refreshments will be provided! \nRSVP to Cindy Van Winkle at cvanwinkle@seattlelh.org or (206) 436-2264. If you have any accommodation requests please let us know by Monday\, September 29th. \nShare this:EmailFacebookLinkedInTwitter
URL:https://redefiningvision.org/event/get-to-know-the-lighthouse-harvesting-opportunities/
CATEGORIES:Fundraiser,Seattle Events
ATTACH;FMTTYPE=:
END:VEVENT
BEGIN:VEVENT
DTSTART;VALUE=DATE:20171009
DTEND;VALUE=DATE:20171010
DTSTAMP:20260423T155111
CREATED:20161209T013130Z
LAST-MODIFIED:20161209T013130Z
UID:7930-1507507200-1507593599@redefiningvision.org
SUMMARY:Columbus Day
DESCRIPTION:BSCs and CMS facilities are closed. \nShare this:EmailFacebookLinkedInTwitter
URL:https://redefiningvision.org/event/columbus-day-2/
CATEGORIES:Holidays
END:VEVENT
BEGIN:VEVENT
DTSTART;TZID=UTC:20170928T120000
DTEND;TZID=UTC:20170928T131500
DTSTAMP:20260423T155111
CREATED:20170922T231145Z
LAST-MODIFIED:20170922T231145Z
UID:8726-1506600000-1506604500@redefiningvision.org
SUMMARY:National Good Neighbor Day - Spokane
DESCRIPTION:National Good Neighbor Day is a day to connect with and recognize the importance of good neighbors. At Inland Northwest Lighthouse (INL) we want to connect with our neighbors! Please join us for an opportunity to “Get to Know the Lighthouse” on Thursday\, September 28th from 12:00 p.m. – 1:15 p.m. at our Spokane facility. You will have a chance to see how INL has been making an impact in the Greater Spokane area for the past 9 years by touring our manufacturing facility\, and learning about our Employee and Community Services department\, while spending time with friends\, family\, and our neighbors.\n\nSince opening on June 16th 2008\, Inland Northwest Lighthouse has been providing employment opportunities and training programs for people who are blind\, DeafBlind\, and blind with other disabilities in the Spokane community. We currently employ 58 individuals\, over 40 who are blind in a variety of jobs including production and manufacturing.Our “Get to Know the Lighthouse” events are the perfect opportunity to not only tour our facility\, but learn about our organizations history\, make some great connections\, and ask questions of our employees.\n\nWhen: Thursday September 28th\, 12:00 p.m. – 1:15 p.m.\nWhere: Inland Northwest Lighthouse\, 6405 N. Addison Street Spokane WA\, 99208\n\nPlease bring a family member\, friend\, co-worker\, or neighbor! All are welcome! A light lunch and refreshments will be provided.\n\n\nRSVP to Greg Szabo at gszabo@seattlelh.org or (509) 487-0405. If you need any accommodations please let us know by Wednesday\, September 20th.\n\n\nWe hope to see you there!\nShare this:EmailFacebookLinkedInTwitter
URL:https://redefiningvision.org/event/national-good-neighbor-day-spokane/
CATEGORIES:Community,Fundraiser,Spokane Events
END:VEVENT
BEGIN:VEVENT
DTSTART;TZID=UTC:20170921T153000
DTEND;TZID=UTC:20170921T180000
DTSTAMP:20260423T155111
CREATED:20170825T012348Z
LAST-MODIFIED:20170825T012348Z
UID:8673-1506007800-1506016800@redefiningvision.org
SUMMARY:End of Summer Open House – Summerville
DESCRIPTION:Celebrate the beginning of fall by enjoying a glass of wine or a beer and make new friends at our Summerville Open House! Besides drinks and great food\, the open house will also include a tour of our facility and a chance for you to hear from an employee on how we are creating opportunities for jobs\, independence\, and empowerment for people who are blind in the greater Summerville/Charleston area. You will also be eligible to win an exciting raffle prize just by enjoying some hors d’oeuvres and drinks with us! Please RSVP by Friday\, September 15th to Shawn Dobbs at (843) 376-2805 or at sdobbs@seattlelh.org. \nShare this:EmailFacebookLinkedInTwitter
URL:https://redefiningvision.org/event/end-summer-open-house-summerville/
CATEGORIES:Fundraiser,Summerville Events
ATTACH;FMTTYPE=:
END:VEVENT
BEGIN:VEVENT
DTSTART;TZID=UTC:20170908T130000
DTEND;TZID=UTC:20170908T143000
DTSTAMP:20260423T155111
CREATED:20170825T011503Z
LAST-MODIFIED:20170825T011503Z
UID:8670-1504875600-1504881000@redefiningvision.org
SUMMARY:Get to Know the Lighthouse: Blue Friday
DESCRIPTION:Kick off the Seahawks’ 2017 season with the Lighthouse! Join us for our Blue Friday presentation of our Get to Know the Lighthouse event series\, on Friday September 8th from 1:00 p.m. – 2:30 p.m. at our Seattle facility. Wear your Seahawks gear\, and come ready to learn about our organization as you tour the manufacturing floor\, are introduced to accessibility and technology accommodations for blind and DeafBlind individuals\, and hear firsthand from one of our employees about what it’s like out on their personal playing field. \nPlease RSVP to Cindy Van Winkle at cvanwinkle@seattlelh.org or (206) 436-2264. If you have any accommodation requests please let us know by Thursday\, August 31st. \nShare this:EmailFacebookLinkedInTwitter
URL:https://redefiningvision.org/event/get-know-lighthouse-blue-friday/
CATEGORIES:Fundraiser,Seattle Events
ATTACH;FMTTYPE=:
END:VEVENT
BEGIN:VEVENT
DTSTART;VALUE=DATE:20170904
DTEND;VALUE=DATE:20170905
DTSTAMP:20260423T155111
CREATED:20161209T013053Z
LAST-MODIFIED:20161209T013053Z
UID:7928-1504483200-1504569599@redefiningvision.org
SUMMARY:Labor Day
DESCRIPTION:Seattle\, Spokane\, Summerville\, BSCs\, and CMS facilities are closed. \nShare this:EmailFacebookLinkedInTwitter
URL:https://redefiningvision.org/event/labor-day/
CATEGORIES:Holidays
END:VEVENT
BEGIN:VEVENT
DTSTART;TZID=UTC:20170817T170000
DTEND;TZID=UTC:20170817T200000
DTSTAMP:20260423T155111
CREATED:20161216T002355Z
LAST-MODIFIED:20161216T002355Z
UID:7964-1502989200-1503000000@redefiningvision.org
SUMMARY:Redefining Vision Garden Party
DESCRIPTION:Please join us for our annual Redefining Vision Summer Garden Party on Thursday\, August 17th from 5:00 p.m. to 8:00 p.m. We invite you to explore the sights\, scents\, and sounds of the garden while supporting Lighthouse employee programs and services. \nEnjoy a relaxing evening with friends\, music\, food\, and drinks in this unique oasis specifically designed for individuals who are blind\, DeafBlind\, and blind with other disabilities. The garden will be in full bloom\, with last year’s restoration efforts complete. The event will also include a short program\, silent auction with incredible prize packages\, accessibility and technology demonstrations\, and special tours of the Lighthouse’s Machine Shop. \nThis is a free event. Must be 21+ to attend. \nThursday\, August 17th\, 2016 from 5:00 p.m. to 8:00 p.m. (*This is an informal event so we encourage you to stop by whenever you can!) \nPlease RSVP at www.redefiningvision.org. For more information contact Molly McLachlan at 206-436-2253 or mmclachlan@seattlelh.org. \nShare this:EmailFacebookLinkedInTwitter
URL:https://redefiningvision.org/event/redefining-vision-garden-party/
CATEGORIES:Fundraiser,Seattle Events
ATTACH;FMTTYPE=:
END:VEVENT
BEGIN:VEVENT
DTSTART;TZID=UTC:20170807T100000
DTEND;TZID=UTC:20170807T220000
DTSTAMP:20260423T155111
CREATED:20170725T221146Z
LAST-MODIFIED:20170725T221146Z
UID:8648-1502100000-1502143200@redefiningvision.org
SUMMARY:Eat Burritos for the Lighthouse
DESCRIPTION:Sweeto Burrito at 1839 North Ruby Street\, in Spokane is partnering with Inland Northwest Lighthouse (INL) to help support our programs and services! Please join us on\, Monday August 7th; from 10:00 a.m. to 10:00 p.m. Sweeto Burrito will donate 15% of their proceeds to the Lighthouse when you present our flyer to your cashier! For more information please contact Greg Szabo at gszabo@seattlelh.org or (509) 487-0405. \nShare this:EmailFacebookLinkedInTwitter
URL:https://redefiningvision.org/event/eat-burritos-lighthouse/
CATEGORIES:Fundraiser,Spokane Events
ATTACH;FMTTYPE=:
END:VEVENT
BEGIN:VEVENT
DTSTART;TZID=UTC:20170718T130000
DTEND;TZID=UTC:20170718T150000
DTSTAMP:20260423T155111
CREATED:20170616T011024Z
LAST-MODIFIED:20170616T011024Z
UID:8638-1500382800-1500390000@redefiningvision.org
SUMMARY:Get to Know the Lighthouse
DESCRIPTION:Tuesday\, July 18th at 1:00 p.m. we will be our next “Get to Know” the Lighthouse event. If you have family or friends who have not yet come by for a tour\, invite them to mark their calendars for this Lighthouse experience. This will include snacks with refreshments\, as well as a tour. Please RSVP to Cindy Van Winkle at cvanwinkle@seattlelh.org or 206-436-2264. \nShare this:EmailFacebookLinkedInTwitter
URL:https://redefiningvision.org/event/get-know-lighthouse/
CATEGORIES:Fundraiser
ATTACH;FMTTYPE=:
END:VEVENT
BEGIN:VEVENT
DTSTART;VALUE=DATE:20170704
DTEND;VALUE=DATE:20170705
DTSTAMP:20260423T155111
CREATED:20161209T013027Z
LAST-MODIFIED:20161209T013027Z
UID:7926-1499126400-1499212799@redefiningvision.org
SUMMARY:Independence Day
DESCRIPTION:Seattle\, Spokane\, Summerville\, BSCs\, and CMS facilities are closed. \nShare this:EmailFacebookLinkedInTwitter
URL:https://redefiningvision.org/event/independence-day/
CATEGORIES:Holidays
END:VEVENT
BEGIN:VEVENT
DTSTART;TZID=UTC:20170601T160000
DTEND;TZID=UTC:20170601T190000
DTSTAMP:20260423T155111
CREATED:20161215T235620Z
LAST-MODIFIED:20161215T235620Z
UID:7959-1496332800-1496343600@redefiningvision.org
SUMMARY:INL Food Truck Rally
DESCRIPTION:Kick off your summer with food and fun as we celebrate jobs\, independence\, and empowerment for people who are blind in Spokane. The event features seven food trucks from The Greater Spokane Food Truck Association\, a beer garden\, raffle\, activities for families\, demonstrations\, and special tours. For more information\, contact Greg Szabo at (509) 487-0405 ext. 1422 or via email at gregszabo@seattlelh.org. \nShare this:EmailFacebookLinkedInTwitter
URL:https://redefiningvision.org/event/inl-food-truck-rally-2/
CATEGORIES:Fundraiser,Spokane Events
ATTACH;FMTTYPE=:
END:VEVENT
BEGIN:VEVENT
DTSTART;VALUE=DATE:20170529
DTEND;VALUE=DATE:20170530
DTSTAMP:20260423T155111
CREATED:20161209T012953Z
LAST-MODIFIED:20161209T012953Z
UID:7924-1496016000-1496102399@redefiningvision.org
SUMMARY:Memorial Day
DESCRIPTION:Seattle\, Spokane\, Summerville\, BSCs\, and CMS facilities are closed. \nShare this:EmailFacebookLinkedInTwitter
URL:https://redefiningvision.org/event/memorial-day/
CATEGORIES:Holidays
END:VEVENT
BEGIN:VEVENT
DTSTART;TZID=UTC:20170527T150000
DTEND;TZID=UTC:20170527T220000
DTSTAMP:20260423T155111
CREATED:20170515T205944Z
LAST-MODIFIED:20170515T205944Z
UID:8504-1495897200-1495922400@redefiningvision.org
SUMMARY:Lighthouse Fundraiser at A Very Taki Tiki Bar & Grill – Edmonds
DESCRIPTION:A Very Taki Tiki Bar & Grill in Edmonds will be holding an all-day fundraiser to benefit the Lighthouse. It will take place on Saturday\, May 27\, which is also during Memorial Day weekend. \nShare this:EmailFacebookLinkedInTwitter
URL:https://redefiningvision.org/event/lighthouse-fundraiser-at-a-very-taki-tiki-bar-grill-edmonds/
CATEGORIES:Fundraiser,Seattle Events
ATTACH;FMTTYPE=:
END:VEVENT
BEGIN:VEVENT
DTSTART;TZID=UTC:20170523T100000
DTEND;TZID=UTC:20170523T110000
DTSTAMP:20260423T155111
CREATED:20170517T190028Z
LAST-MODIFIED:20170517T190028Z
UID:8555-1495533600-1495537200@redefiningvision.org
SUMMARY:Get to Know the Lighthouse
DESCRIPTION:Join us for a unique “Get To Know” the Lighthouse event on Tuesday\, May 23rd at The Lighthouse for the Blind\, Inc. \nThe Lighthouse continues to break down barriers to employment\, celebrate the abilities of each individual\, and provide opportunities for growth of employees who are blind\, DeafBlind\, and blind with other disabilities. Our “Get To Know” the Lighthouse event is your opportunity to not only tour our facility\, but ask questions of employees\, learn of our rich history\, make connections\, discover ways you may be able to partner with us in our future\, and explore a bit about yourself in the process! \nSnacks and beverages will be provided. \nCome on your own or bring a friend. All are welcome. You’re sure to be inspired! \nWhen: Thursday\, May 23\, 10:00 a.m. – 11:00 a.m. \nWhere: 2501 S. Plum Street\, Seattle\, WA 98144 \nRSVP to Cindy Van Winkle at cvanwinkle@seattlelh.org or 206-436-2264. \nShare this:EmailFacebookLinkedInTwitter
URL:https://redefiningvision.org/event/get-to-know-the-lighthouse/
CATEGORIES:Fundraiser,Outreach,Seattle Events
ATTACH;FMTTYPE=:
END:VEVENT
BEGIN:VEVENT
DTSTART;TZID=UTC:20170509T120000
DTEND;TZID=UTC:20170509T140000
DTSTAMP:20260423T155111
CREATED:20170503T070633Z
LAST-MODIFIED:20170503T070633Z
UID:8356-1494331200-1494338400@redefiningvision.org
SUMMARY:One-Year Anniversary - Summerville
DESCRIPTION:You are invited to join The Lighthouse for the Blind\, Inc. as we celebrate our one year anniversary of creating jobs\, independence\, and empowerment for people who are blind in South Carolina. Join us for lunch and cake\, a tour of our facility\, and hear from an employee about how working at the Lighthouse has changed their life. Please take this opportunity to visit the newest Lighthouse facility\, mingle with great company\, and enjoy excellent food! \nShare this:EmailFacebookLinkedInTwitter
URL:https://redefiningvision.org/event/one-year-anniversary-summerville/
CATEGORIES:Fundraiser,Summerville Events
ATTACH;FMTTYPE=:
END:VEVENT
BEGIN:VEVENT
DTSTART;TZID=UTC:20170309T120000
DTEND;TZID=UTC:20170309T130000
DTSTAMP:20260423T155111
CREATED:20161210T014100Z
LAST-MODIFIED:20161210T014100Z
UID:7944-1489060800-1489064400@redefiningvision.org
SUMMARY:2017 Redefining Luncheon
DESCRIPTION:Please join us for the Lighthouse’s annual Redefining Vision Luncheon at the Westin Hotel Seattle. Our signature annual event\, the Luncheon includes employee speakers\, a video highlighting our mission\, and a guest speaker. Registration will begin in January\, for more information please contact Molly McLachlan at 206-436-2253 or via email at mmclachlan@seattlelh.org. \nShare this:EmailFacebookLinkedInTwitter
URL:https://redefiningvision.org/event/2017-redefining-luncheon/
CATEGORIES:Fundraiser,Seattle Events
END:VEVENT
BEGIN:VEVENT
DTSTART;VALUE=DATE:20170220
DTEND;VALUE=DATE:20170221
DTSTAMP:20260423T155111
CREATED:20161209T012920Z
LAST-MODIFIED:20161209T012920Z
UID:7922-1487548800-1487635199@redefiningvision.org
SUMMARY:President's Day
DESCRIPTION:Seattle\, Spokane\, Summerville\, BSCs\, and CMS facilities are closed. \nShare this:EmailFacebookLinkedInTwitter
URL:https://redefiningvision.org/event/presidents-day/
CATEGORIES:Holidays
END:VEVENT
BEGIN:VEVENT
DTSTART;TZID=UTC:20170128T130000
DTEND;TZID=UTC:20170128T150000
DTSTAMP:20260423T155111
CREATED:20161215T222545Z
LAST-MODIFIED:20161215T222545Z
UID:7947-1485608400-1485615600@redefiningvision.org
SUMMARY:High Tea Fundraiser
DESCRIPTION:Mrs. Barbara Ross and Mrs. Billie Klan cordially invite you to attend an East Meets West themed High Tea at the Sorrento Hotel in Seattle. The event includes a short program and silent auction. Space is limited\, so if you are interested in attended please contact Molly McLachlan at 206-436-2253 or via email at mmclachlan@seattlelh.org. \nShare this:EmailFacebookLinkedInTwitter
URL:https://redefiningvision.org/event/high-tea-fundraiser/
CATEGORIES:Fundraiser,Seattle Events
END:VEVENT
BEGIN:VEVENT
DTSTART;VALUE=DATE:20170116
DTEND;VALUE=DATE:20170117
DTSTAMP:20260423T155111
CREATED:20161209T012829Z
LAST-MODIFIED:20161209T012829Z
UID:7920-1484524800-1484611199@redefiningvision.org
SUMMARY:Dr. Martin Luther King\, Jr. Day
DESCRIPTION:Seattle\, Spokane\, Summerville\, BSCs\, and CMS facilities are closed. \nShare this:EmailFacebookLinkedInTwitter
URL:https://redefiningvision.org/event/dr-martin-luther-king-jr-day/
CATEGORIES:Holidays
END:VEVENT
BEGIN:VEVENT
DTSTART;VALUE=DATE:20170102
DTEND;VALUE=DATE:20170103
DTSTAMP:20260423T155111
CREATED:20161209T012625Z
LAST-MODIFIED:20161209T012625Z
UID:7918-1483315200-1483401599@redefiningvision.org
SUMMARY:New Year's Day
DESCRIPTION:Seattle\, Spokane\, Summerville\, BSCs\, and CMS facilities are closed. \nShare this:EmailFacebookLinkedInTwitter
URL:https://redefiningvision.org/event/new-years-day/
CATEGORIES:Holidays
END:VEVENT
BEGIN:VEVENT
DTSTART;VALUE=DATE:20161226
DTEND;VALUE=DATE:20161227
DTSTAMP:20260423T155111
CREATED:20160919T191512Z
LAST-MODIFIED:20160919T191512Z
UID:6876-1482710400-1482796799@redefiningvision.org
SUMMARY:Christmas Day
DESCRIPTION:Seattle\, Spokane\, Summerville\, Base Supply Centers\, and CMS facilities are closed today. \nShare this:EmailFacebookLinkedInTwitter
URL:https://redefiningvision.org/event/christmas-day/
CATEGORIES:Holidays
END:VEVENT
BEGIN:VEVENT
DTSTART;VALUE=DATE:20161223
DTEND;VALUE=DATE:20161224
DTSTAMP:20260423T155111
CREATED:20160919T191434Z
LAST-MODIFIED:20160919T191434Z
UID:6874-1482451200-1482537599@redefiningvision.org
SUMMARY:Christmas Eve
DESCRIPTION:Seattle\, Spokane\, and Summerville facilities are closed today. \nShare this:EmailFacebookLinkedInTwitter
URL:https://redefiningvision.org/event/christmas-eve/
CATEGORIES:Holidays
END:VEVENT
BEGIN:VEVENT
DTSTART;VALUE=DATE:20161125
DTEND;VALUE=DATE:20161126
DTSTAMP:20260423T155111
CREATED:20160919T191340Z
LAST-MODIFIED:20160919T191340Z
UID:6872-1480032000-1480118399@redefiningvision.org
SUMMARY:Day After Thanksgiving
DESCRIPTION:Seattle\, Spokane\, Summerville\, and Base Supply Center facilities are closed today. \nShare this:EmailFacebookLinkedInTwitter
URL:https://redefiningvision.org/event/day-after-thanksgiving/
CATEGORIES:Holidays
END:VEVENT
END:VCALENDAR