BEGIN:VCALENDAR
VERSION:2.0
PRODID:-//Redefiningvision.org - ECPv6.15.1.1//NONSGML v1.0//EN
CALSCALE:GREGORIAN
METHOD:PUBLISH
X-WR-CALNAME:Redefiningvision.org
X-ORIGINAL-URL:https://redefiningvision.org
X-WR-CALDESC:Events for Redefiningvision.org
REFRESH-INTERVAL;VALUE=DURATION:PT1H
X-Robots-Tag:noindex
X-PUBLISHED-TTL:PT1H
BEGIN:VTIMEZONE
TZID:UTC
BEGIN:STANDARD
TZOFFSETFROM:+0000
TZOFFSETTO:+0000
TZNAME:UTC
DTSTART:20160101T000000
END:STANDARD
END:VTIMEZONE
BEGIN:VEVENT
DTSTART;TZID=UTC:20181206T080000
DTEND;TZID=UTC:20181206T090000
DTSTAMP:20260423T172646
CREATED:20180213T021441Z
LAST-MODIFIED:20180213T021441Z
UID:9259-1544083200-1544086800@redefiningvision.org
SUMMARY:Centennial Donor Appreciation Breakfast
DESCRIPTION:The Lighthouse would not be what it is today without the amazing support of the community! Join us for breakfast at the Washington Athletic Club as we celebrate and honor those who have made a profound impact on the Lighthouse these past 100 years. \nShare this:EmailFacebookLinkedInTwitter
URL:https://redefiningvision.org/event/centennial-donor-appreciation-breakfast/
CATEGORIES:Centennial Event,Fundraiser,Seattle Events
END:VEVENT
BEGIN:VEVENT
DTSTART;TZID=UTC:20181110T110000
DTEND;TZID=UTC:20181110T130000
DTSTAMP:20260423T172646
CREATED:20180213T022355Z
LAST-MODIFIED:20180213T022355Z
UID:9263-1541847600-1541854800@redefiningvision.org
SUMMARY:6th Annual Dim Sum Lunch
DESCRIPTION:Join us for our 6th Annual Dim Sum Lunch hosted by former board member and longtime friend of the Lighthouse\, Howie Dickerman. Howie picks up the tab and you eat all the Dim Sum you can! This year we have a special goal and we need your help to reach it… 100 guests to celebrate our 100th Anniversary! This event is filled with delicious food and great conversation with Lighthouse employees and supporters who share our commitment to creating opportunities for people who are blind\, DeafBlind\, and blind with other disabilities. \nRecommended donation of $100 per person\, funds raised will support our programs and services at the Lighthouse. \nRegistration open in August 2018. \nShare this:EmailFacebookLinkedInTwitter
URL:https://redefiningvision.org/event/6th-annual-dim-sum-lunch/
CATEGORIES:Centennial Event,Fundraiser,Seattle Events
END:VEVENT
BEGIN:VEVENT
DTSTART;TZID=UTC:20181109T100000
DTEND;TZID=UTC:20181109T113000
DTSTAMP:20260423T172646
CREATED:20180213T022931Z
LAST-MODIFIED:20180213T022931Z
UID:9265-1541757600-1541763000@redefiningvision.org
SUMMARY:Get to Know the Lighthouse - "The Lighthouse and Uncle Sam"
DESCRIPTION:The Lighthouse for the Blind\, Inc. has been providing employment for people who are blind for 100 years\, right here in Seattle. Many locals will remember us in our earlier years for our brooms and neck ties\, for our work with Boeing\, and our office products for the Federal Government. But what may not be as well-known is our work with the Department of Defense and the many products we produce in support of our military. \nSince 1918\, the Lighthouse has grown from a handful of employees to over 260 who are blind\, including nearly 40 who are DeafBlind. Here is your opportunity to visit us and tour our manufacturing facility and see firsthand how folks who are blind or DeafBlind are working all facets of production\, the accessibility features put in place\, and the specialized training offered to our employees. This is a behind the scenes experience with some personal touches included. \nThis is our final “Get To Know” event of 2018 and we’d love for you to be a part of it. Bring a friend or colleague and get ready to be inspired! \nThe deadline for accommodation requests is October 26\, 2018. \nShare this:EmailFacebookLinkedInTwitter
URL:https://redefiningvision.org/event/lighthouse-uncle-sam/
CATEGORIES:Centennial Event,Fundraiser,Seattle Events
END:VEVENT
BEGIN:VEVENT
DTSTART;TZID=UTC:20181002T100000
DTEND;TZID=UTC:20181002T113000
DTSTAMP:20260423T172646
CREATED:20180118T052112Z
LAST-MODIFIED:20180118T052112Z
UID:9190-1538474400-1538479800@redefiningvision.org
SUMMARY:Get to Know the Lighthouse – "From Brooms to Boeing"
DESCRIPTION:The Lighthouse for the Blind\, Inc. opened our doors in 1918. At that time a few people who were blind caned chairs\, weaved baskets\, and made brooms. Today we are the largest employer of people who are blind on the West Coast and of people who are DeafBlind in the country. Our product line now includes office supplies for the federal government\, military products for the Department of Defense\, and aerospace parts for companies including Boeing. \nWe invite you to join us for a tour of our manufacturing facility in Seattle. Learn how machining and other manufacturing jobs have been made accessible to people who are blind and DeafBlind. Guests will also be introduced to assistive technology\, braille\, and other specialized training offered here at the Lighthouse. And one of our employees will even share their personal journey. \nThis is an event to be shared with all members of the community. Consider bringing a friend or come on your own – all are welcome! \nShare this:EmailFacebookLinkedInTwitter
URL:https://redefiningvision.org/event/get-know-lighthouse-brooms-boeing/
CATEGORIES:Centennial Event,Fundraiser,Seattle Events
END:VEVENT
BEGIN:VEVENT
DTSTART;TZID=UTC:20180915T180000
DTEND;TZID=UTC:20180915T210000
DTSTAMP:20260423T172646
CREATED:20180118T061017Z
LAST-MODIFIED:20180118T061017Z
UID:9203-1537034400-1537045200@redefiningvision.org
SUMMARY:Centennial Celebration
DESCRIPTION:Save the Date – September 15th\, 2018 for the Lighthouse Centennial Celebration at The Museum of Flight! More information to follow. \nShare this:EmailFacebookLinkedInTwitter
URL:https://redefiningvision.org/event/centennial-celebration/
CATEGORIES:Centennial Event,Fundraiser,Seattle Events
END:VEVENT
BEGIN:VEVENT
DTSTART;TZID=UTC:20180802T170000
DTEND;TZID=UTC:20180802T180000
DTSTAMP:20260423T172646
CREATED:20180118T051936Z
LAST-MODIFIED:20180118T051936Z
UID:9188-1533229200-1533232800@redefiningvision.org
SUMMARY:Get to Know the Lighthouse – "Summer Senses"
DESCRIPTION:Can you imagine doing your job without sight or without sight and hearing? Every day\, people who are blind\, DeafBlind\, and blind with other disabilities come to work at The Lighthouse for the Blind\, Inc. in all areas of manufacturing\, administration\, human resources\, training\, and more. \nThe Lighthouse has been providing employment opportunities for 100 years\, hosted a world-renowned DeafBlind camp for 40 years\, and maintained a Fragrant Garden at our Seattle facility which has stimulated the senses of our employees for 45 years. \nWe invite you to step out of the comfort of your home or office and join us for a “Get to Know the Lighthouse” experience. Explore your senses with us as together we tour the manufacturing floor\, the Ethel L. Dupar Fragrant Garden\, and some of the specialized programs offered here at the Lighthouse. This will be an event you won’t want to miss! \nShare this:EmailFacebookLinkedInTwitter
URL:https://redefiningvision.org/event/get-know-lighthouse-summer-senses/
CATEGORIES:Centennial Event,Fundraiser,Seattle Events
END:VEVENT
BEGIN:VEVENT
DTSTART;TZID=UTC:20180719T170000
DTEND;TZID=UTC:20180719T200000
DTSTAMP:20260423T172646
CREATED:20180213T021757Z
LAST-MODIFIED:20180213T021757Z
UID:9261-1532019600-1532030400@redefiningvision.org
SUMMARY:Lighthouse Summer Garden Party
DESCRIPTION:Please join us for our annual Summer Garden Party on Thursday\, July 19th from 5:00 p.m. to 8:00 p.m.   We invite you to explore the sights\, scents\, and sounds of the garden while supporting Lighthouse employee programs and services. \nEnjoy a relaxing evening with friends\, music\, food\, and drinks in this unique oasis specifically designed for individuals who are blind\, DeafBlind\, and blind with other disabilities. The event will also include a short program\, a raffle with incredible prize packages\, accessibility and technology demonstrations\, and special tours of the Lighthouse’s Machine Shop. \nThis is a free and informal event so we encourage you to stop by whenever you can! Must be 21+ to attend. \nShare this:EmailFacebookLinkedInTwitter
URL:https://redefiningvision.org/event/lighthouse-summer-garden-party/
CATEGORIES:Centennial Event,Fundraiser,Seattle Events
END:VEVENT
BEGIN:VEVENT
DTSTART;TZID=UTC:20180530T120000
DTEND;TZID=UTC:20180530T133000
DTSTAMP:20260423T172646
CREATED:20180118T051730Z
LAST-MODIFIED:20180118T051730Z
UID:9186-1527681600-1527687000@redefiningvision.org
SUMMARY:Get to Know the Lighthouse - "Celebrating the Past\, Present\, and Future"
DESCRIPTION:The Lighthouse for the Blind\, Inc. has been a part of Seattle for 100 years. \nCelebrate with us as we explore together a past spanning 100 years\, a present providing employment opportunities\, and a future of possibilities! \nCome take part in this “Get to Know the Lighthouse” event and expand your understanding of what it means to be independent and self-sufficient as you witness people who are blind and DeafBlind working on the manufacturing floor\, learn how technology is leveling the playing field\, and share in the journey of one of our employees. \nCome on your own\, bring a friend or coworker\, or why not make this a group outing for the entire office. The more the merrier! \nShare this:EmailFacebookLinkedInTwitter
URL:https://redefiningvision.org/event/get-know-lighthouse-celebrating-past-present-future/
CATEGORIES:Centennial Event,Fundraiser,Seattle Events
END:VEVENT
BEGIN:VEVENT
DTSTART;TZID=UTC:20180406T130000
DTEND;TZID=UTC:20180406T143000
DTSTAMP:20260423T172646
CREATED:20180118T051445Z
LAST-MODIFIED:20180118T051445Z
UID:9184-1523019600-1523025000@redefiningvision.org
SUMMARY:Get to Know the Lighthouse - "Happy 100th Birthday to the Lighthouse!"
DESCRIPTION:On April 2\, 1918\, The Lighthouse for the Blind\, Inc. opened our doors and began changing the lives of people who are blind\, DeafBlind\, and blind with other disabilities. Come help us celebrate this momentous occasion with a tour of our manufacturing facility\, computer and braille training labs\, and much more. \nThe Lighthouse has been providing employment opportunities for people who are blind\, DeafBlind\, and blind with other disabilities for 100 years. Originally located in downtown Seattle and then for 42 years on the Seattle waterfront\, the Lighthouse has been at its current location in Rainier Valley since 1967. We have expanded to include manufacturing facilities in Spokane and Summerville\, South Carolina as well as Base Supply Centers along the West Coast. \nGive us an hour-and-a-half of your day and we’ll share with you a slice of birthday cake and a glimpse into our rich history. This is sure to be an experience that will expand your view on the abilities of people who are blind and DeafBlind. Our story is meant to be shared – so bring a friend or come on your own and join the Lighthouse community! \nShare this:EmailFacebookLinkedInTwitter
URL:https://redefiningvision.org/event/get-know-lighthouse-happy-100th-birthday/
CATEGORIES:Centennial Event,Fundraiser,Seattle Events
END:VEVENT
BEGIN:VEVENT
DTSTART;TZID=UTC:20180214T100000
DTEND;TZID=UTC:20180214T113000
DTSTAMP:20260423T172646
CREATED:20180104T013846Z
LAST-MODIFIED:20180104T013846Z
UID:9092-1518602400-1518607800@redefiningvision.org
SUMMARY:Get to Know the Lighthouse – "The Heart of the Lighthouse"
DESCRIPTION:Take a break from your busy day and join us at The Lighthouse for the Blind\, Inc. as we share the “heart” of the Lighthouse with you on this Valentine’s Day. \nFor 100 years\, the Lighthouse has been providing jobs\, independence\, and empowerment for people who are blind\, DeafBlind\, and blind with other disabilities. Here is your opportunity to tour our manufacturing facility\, learn of the opportunities provided to employees\, and to hear firsthand how the Lighthouse changes lives! \nAt the Lighthouse we know the heart of our organization is the people. It’s not only our employees\, many of whom have worked here for over 40 years\, but it’s the greater community of which we are a part and who believe in what we do. We’d love to have you become a part of our community! \nBring a friend\, the entire office\, or come on your own. Allow us to share our “heart” with you and be a part of our special 100th year! We know you’ll be glad you came. \nShare this:EmailFacebookLinkedInTwitter
URL:https://redefiningvision.org/event/the-heart-of-the-lighthouse/
CATEGORIES:Centennial Event,Fundraiser,Seattle Events
END:VEVENT
BEGIN:VEVENT
DTSTART;TZID=UTC:20171116T120000
DTEND;TZID=UTC:20171116T133000
DTSTAMP:20260423T172646
CREATED:20171024T033513Z
LAST-MODIFIED:20171024T033513Z
UID:9013-1510833600-1510839000@redefiningvision.org
SUMMARY:Get to Know the Lighthouse - Giving Thanks
DESCRIPTION:November is about giving thanks! At The Lighthouse for the Blind\, Inc. our employees are thankful every day for the support we are able to provide for them to be successful and independent. Join us on Thursday\, November 16th for our final “Get To Know” the Lighthouse event in 2017 and together we can share the many reasons we can all be giving thanks for the Lighthouse.\n\nWe invite you to extend your lunch hour and take part in a tour\, employee presentation\, and more to learn how for more than 99 years\, the Lighthouse has been breaking down barriers to employment\, celebrating the abilities of each individual\, and providing opportunities for growth of employees who are blind\, DeafBlind\, and blind with other disabilities.\n\nOur “Get To Know” the Lighthouse event is a great way for you to not only tour our facility\, but ask questions of employees\, learn of our rich history\, make connections\, and hopefully discover ways you can partner with us in our future.\nWe know you’ll be glad you came!\n\nWhen: Thursday\, November 16th\, 2017\, 12:00 p.m. – 1:30 p.m.\nWhere: 2501 S. Plum Street\, Seattle\, WA 98144 – Boardroom\n\nCome on your own or bring a friend. This is a great team-building project for the office or a club. All are welcome. You’re sure to be inspired! Lunch will be provided!\n\nRSVP to Cindy Van Winkle at cvanwinkle@seattlelh.org or (206) 436-2264. If you have any accommodation requests please let us know by Friday\, November 3rd.\nShare this:EmailFacebookLinkedInTwitter
URL:https://redefiningvision.org/event/get-know-lighthouse-giving-thanks/
CATEGORIES:Fundraiser,Seattle Events
ATTACH;FMTTYPE=:
END:VEVENT
BEGIN:VEVENT
DTSTART;TZID=UTC:20171111T110000
DTEND;TZID=UTC:20171111T130000
DTSTAMP:20260423T172646
CREATED:20161216T004315Z
LAST-MODIFIED:20161216T004315Z
UID:7966-1510398000-1510405200@redefiningvision.org
SUMMARY:Dim Sum Lunch
DESCRIPTION:The Lighthouse for the Blind\, Inc.’s Foundation Board Member Howie Dickerman invites you to join him for Dim Sum! It’s really quite simple: the Dim Sum is on Howie\, and he asks everyone who attends to make a $50 contribution to the Lighthouse.   If you’re a fan of Chinese Dim Sum\, please join us.  And if you have some friends who also like to eat Dim Sum\, please bring them along – the more the merrier! This is a great opportunity to learn more about this fantastic organization while eating delicious food and enjoying great conversation with friends\, co-workers\, and the Lighthouse community.  For more information\, please contact Molly McLachlan at (206) 436-2253 or via email at mmclachlan@seattlelh.org. \nShare this:EmailFacebookLinkedInTwitter
URL:https://redefiningvision.org/event/dim-sum-lunch/
CATEGORIES:Fundraiser,Seattle Events
ATTACH;FMTTYPE=:
END:VEVENT
BEGIN:VEVENT
DTSTART;TZID=UTC:20171011T110000
DTEND;TZID=UTC:20171011T121500
DTSTAMP:20260423T172646
CREATED:20170922T225054Z
LAST-MODIFIED:20170922T225054Z
UID:8720-1507719600-1507724100@redefiningvision.org
SUMMARY:Get to Know the Lighthouse - Harvesting Opportunities
DESCRIPTION:October is almost here! Embrace the fall season with the Lighthouse at our Harvesting Opportunities event. Join us on Wednesday\, October 11th for our next “Get To Know” the Lighthouse series. \nFor over 99 years\, the Lighthouse has been breaking down barriers to employment\, celebrating the abilities of each individual\, and providing opportunities for growth of employees who are blind\, DeafBlind\, and blind with other disabilities. \nOur Get To Know the Lighthouse event is a great way for you to not only tour our facility\, but ask questions of employees\, learn of our rich history\, make connections\, and hopefully discover ways you can partner with us in our future. We know you’ll be glad you came! \nWhen: Wednesday\, October 11th\, 2017\, 11:00 a.m. – 12:15 a.m. \nWhere: 2501 S. Plum Street\, Seattle\, WA 98144 – Boardroom \nCome on your own or bring a friend. This is a great team-building project for the office or a club. All are welcome. You’re sure to be inspired! Refreshments will be provided! \nRSVP to Cindy Van Winkle at cvanwinkle@seattlelh.org or (206) 436-2264. If you have any accommodation requests please let us know by Monday\, September 29th. \nShare this:EmailFacebookLinkedInTwitter
URL:https://redefiningvision.org/event/get-to-know-the-lighthouse-harvesting-opportunities/
CATEGORIES:Fundraiser,Seattle Events
ATTACH;FMTTYPE=:
END:VEVENT
BEGIN:VEVENT
DTSTART;TZID=UTC:20170908T130000
DTEND;TZID=UTC:20170908T143000
DTSTAMP:20260423T172646
CREATED:20170825T011503Z
LAST-MODIFIED:20170825T011503Z
UID:8670-1504875600-1504881000@redefiningvision.org
SUMMARY:Get to Know the Lighthouse: Blue Friday
DESCRIPTION:Kick off the Seahawks’ 2017 season with the Lighthouse! Join us for our Blue Friday presentation of our Get to Know the Lighthouse event series\, on Friday September 8th from 1:00 p.m. – 2:30 p.m. at our Seattle facility. Wear your Seahawks gear\, and come ready to learn about our organization as you tour the manufacturing floor\, are introduced to accessibility and technology accommodations for blind and DeafBlind individuals\, and hear firsthand from one of our employees about what it’s like out on their personal playing field. \nPlease RSVP to Cindy Van Winkle at cvanwinkle@seattlelh.org or (206) 436-2264. If you have any accommodation requests please let us know by Thursday\, August 31st. \nShare this:EmailFacebookLinkedInTwitter
URL:https://redefiningvision.org/event/get-know-lighthouse-blue-friday/
CATEGORIES:Fundraiser,Seattle Events
ATTACH;FMTTYPE=:
END:VEVENT
BEGIN:VEVENT
DTSTART;TZID=UTC:20170817T170000
DTEND;TZID=UTC:20170817T200000
DTSTAMP:20260423T172646
CREATED:20161216T002355Z
LAST-MODIFIED:20161216T002355Z
UID:7964-1502989200-1503000000@redefiningvision.org
SUMMARY:Redefining Vision Garden Party
DESCRIPTION:Please join us for our annual Redefining Vision Summer Garden Party on Thursday\, August 17th from 5:00 p.m. to 8:00 p.m. We invite you to explore the sights\, scents\, and sounds of the garden while supporting Lighthouse employee programs and services. \nEnjoy a relaxing evening with friends\, music\, food\, and drinks in this unique oasis specifically designed for individuals who are blind\, DeafBlind\, and blind with other disabilities. The garden will be in full bloom\, with last year’s restoration efforts complete. The event will also include a short program\, silent auction with incredible prize packages\, accessibility and technology demonstrations\, and special tours of the Lighthouse’s Machine Shop. \nThis is a free event. Must be 21+ to attend. \nThursday\, August 17th\, 2016 from 5:00 p.m. to 8:00 p.m. (*This is an informal event so we encourage you to stop by whenever you can!) \nPlease RSVP at www.redefiningvision.org. For more information contact Molly McLachlan at 206-436-2253 or mmclachlan@seattlelh.org. \nShare this:EmailFacebookLinkedInTwitter
URL:https://redefiningvision.org/event/redefining-vision-garden-party/
CATEGORIES:Fundraiser,Seattle Events
ATTACH;FMTTYPE=:
END:VEVENT
BEGIN:VEVENT
DTSTART;TZID=UTC:20170527T150000
DTEND;TZID=UTC:20170527T220000
DTSTAMP:20260423T172646
CREATED:20170515T205944Z
LAST-MODIFIED:20170515T205944Z
UID:8504-1495897200-1495922400@redefiningvision.org
SUMMARY:Lighthouse Fundraiser at A Very Taki Tiki Bar & Grill – Edmonds
DESCRIPTION:A Very Taki Tiki Bar & Grill in Edmonds will be holding an all-day fundraiser to benefit the Lighthouse. It will take place on Saturday\, May 27\, which is also during Memorial Day weekend. \nShare this:EmailFacebookLinkedInTwitter
URL:https://redefiningvision.org/event/lighthouse-fundraiser-at-a-very-taki-tiki-bar-grill-edmonds/
CATEGORIES:Fundraiser,Seattle Events
ATTACH;FMTTYPE=:
END:VEVENT
BEGIN:VEVENT
DTSTART;TZID=UTC:20170523T100000
DTEND;TZID=UTC:20170523T110000
DTSTAMP:20260423T172646
CREATED:20170517T190028Z
LAST-MODIFIED:20170517T190028Z
UID:8555-1495533600-1495537200@redefiningvision.org
SUMMARY:Get to Know the Lighthouse
DESCRIPTION:Join us for a unique “Get To Know” the Lighthouse event on Tuesday\, May 23rd at The Lighthouse for the Blind\, Inc. \nThe Lighthouse continues to break down barriers to employment\, celebrate the abilities of each individual\, and provide opportunities for growth of employees who are blind\, DeafBlind\, and blind with other disabilities. Our “Get To Know” the Lighthouse event is your opportunity to not only tour our facility\, but ask questions of employees\, learn of our rich history\, make connections\, discover ways you may be able to partner with us in our future\, and explore a bit about yourself in the process! \nSnacks and beverages will be provided. \nCome on your own or bring a friend. All are welcome. You’re sure to be inspired! \nWhen: Thursday\, May 23\, 10:00 a.m. – 11:00 a.m. \nWhere: 2501 S. Plum Street\, Seattle\, WA 98144 \nRSVP to Cindy Van Winkle at cvanwinkle@seattlelh.org or 206-436-2264. \nShare this:EmailFacebookLinkedInTwitter
URL:https://redefiningvision.org/event/get-to-know-the-lighthouse/
CATEGORIES:Fundraiser,Outreach,Seattle Events
ATTACH;FMTTYPE=:
END:VEVENT
BEGIN:VEVENT
DTSTART;TZID=UTC:20170309T120000
DTEND;TZID=UTC:20170309T130000
DTSTAMP:20260423T172646
CREATED:20161210T014100Z
LAST-MODIFIED:20161210T014100Z
UID:7944-1489060800-1489064400@redefiningvision.org
SUMMARY:2017 Redefining Luncheon
DESCRIPTION:Please join us for the Lighthouse’s annual Redefining Vision Luncheon at the Westin Hotel Seattle. Our signature annual event\, the Luncheon includes employee speakers\, a video highlighting our mission\, and a guest speaker. Registration will begin in January\, for more information please contact Molly McLachlan at 206-436-2253 or via email at mmclachlan@seattlelh.org. \nShare this:EmailFacebookLinkedInTwitter
URL:https://redefiningvision.org/event/2017-redefining-luncheon/
CATEGORIES:Fundraiser,Seattle Events
END:VEVENT
BEGIN:VEVENT
DTSTART;TZID=UTC:20170128T130000
DTEND;TZID=UTC:20170128T150000
DTSTAMP:20260423T172646
CREATED:20161215T222545Z
LAST-MODIFIED:20161215T222545Z
UID:7947-1485608400-1485615600@redefiningvision.org
SUMMARY:High Tea Fundraiser
DESCRIPTION:Mrs. Barbara Ross and Mrs. Billie Klan cordially invite you to attend an East Meets West themed High Tea at the Sorrento Hotel in Seattle. The event includes a short program and silent auction. Space is limited\, so if you are interested in attended please contact Molly McLachlan at 206-436-2253 or via email at mmclachlan@seattlelh.org. \nShare this:EmailFacebookLinkedInTwitter
URL:https://redefiningvision.org/event/high-tea-fundraiser/
CATEGORIES:Fundraiser,Seattle Events
END:VEVENT
BEGIN:VEVENT
DTSTART;TZID=UTC:20161008T170000
DTEND;TZID=UTC:20161008T193000
DTSTAMP:20260423T172646
CREATED:20160919T185711Z
LAST-MODIFIED:20160919T185711Z
UID:6854-1475946000-1475955000@redefiningvision.org
SUMMARY:Pints for Empowerment Fundraiser
DESCRIPTION:Join us for Pints for Empowerment on Saturday\, October 8th from 5:00 p.m. – 7:30 p.m. at Pyramid Ale House. Your $35 ticket will gain you access to this event\, automatic entry into door prize drawings\, one entrée ticket\, and two drink tickets to enjoy amongst your friendly Lighthouse family. Braille and large print menus will be available. For more information please contact Cindy Van Winkle at cvanwinkle@seattlelh.org or by calling (206) 436-2264. \nRSVP here: https://www.eventbrite.com/e/pints-for-empowerment-tickets-27467368639 \nShare this:EmailFacebookLinkedInTwitter
URL:https://redefiningvision.org/event/pints-for-empowerment-fundraiser/
CATEGORIES:Fundraiser,Seattle Events
ATTACH;FMTTYPE=:
END:VEVENT
END:VCALENDAR