BEGIN:VCALENDAR
VERSION:2.0
PRODID:-//Redefiningvision.org - ECPv6.15.1.1//NONSGML v1.0//EN
CALSCALE:GREGORIAN
METHOD:PUBLISH
X-WR-CALNAME:Redefiningvision.org
X-ORIGINAL-URL:https://redefiningvision.org
X-WR-CALDESC:Events for Redefiningvision.org
REFRESH-INTERVAL;VALUE=DURATION:PT1H
X-Robots-Tag:noindex
X-PUBLISHED-TTL:PT1H
BEGIN:VTIMEZONE
TZID:UTC
BEGIN:STANDARD
TZOFFSETFROM:+0000
TZOFFSETTO:+0000
TZNAME:UTC
DTSTART:20160101T000000
END:STANDARD
END:VTIMEZONE
BEGIN:VEVENT
DTSTART;VALUE=DATE:20161226
DTEND;VALUE=DATE:20161227
DTSTAMP:20260424T023101
CREATED:20160919T191512Z
LAST-MODIFIED:20160919T191512Z
UID:6876-1482710400-1482796799@redefiningvision.org
SUMMARY:Christmas Day
DESCRIPTION:Seattle\, Spokane\, Summerville\, Base Supply Centers\, and CMS facilities are closed today. \nShare this:EmailFacebookLinkedInTwitter
URL:https://redefiningvision.org/event/christmas-day/
CATEGORIES:Holidays
END:VEVENT
BEGIN:VEVENT
DTSTART;VALUE=DATE:20161223
DTEND;VALUE=DATE:20161224
DTSTAMP:20260424T023101
CREATED:20160919T191434Z
LAST-MODIFIED:20160919T191434Z
UID:6874-1482451200-1482537599@redefiningvision.org
SUMMARY:Christmas Eve
DESCRIPTION:Seattle\, Spokane\, and Summerville facilities are closed today. \nShare this:EmailFacebookLinkedInTwitter
URL:https://redefiningvision.org/event/christmas-eve/
CATEGORIES:Holidays
END:VEVENT
BEGIN:VEVENT
DTSTART;VALUE=DATE:20161125
DTEND;VALUE=DATE:20161126
DTSTAMP:20260424T023101
CREATED:20160919T191340Z
LAST-MODIFIED:20160919T191340Z
UID:6872-1480032000-1480118399@redefiningvision.org
SUMMARY:Day After Thanksgiving
DESCRIPTION:Seattle\, Spokane\, Summerville\, and Base Supply Center facilities are closed today. \nShare this:EmailFacebookLinkedInTwitter
URL:https://redefiningvision.org/event/day-after-thanksgiving/
CATEGORIES:Holidays
END:VEVENT
BEGIN:VEVENT
DTSTART;VALUE=DATE:20161124
DTEND;VALUE=DATE:20161125
DTSTAMP:20260424T023101
CREATED:20160919T191302Z
LAST-MODIFIED:20160919T191302Z
UID:6870-1479945600-1480031999@redefiningvision.org
SUMMARY:Thanksgiving Day
DESCRIPTION:Seattle\, Spokane\, Summerville\, Base Supply Centers\, and CMS facilities are closed today. \nShare this:EmailFacebookLinkedInTwitter
URL:https://redefiningvision.org/event/thanksgiving-day/
CATEGORIES:Holidays
END:VEVENT
BEGIN:VEVENT
DTSTART;VALUE=DATE:20161111
DTEND;VALUE=DATE:20161112
DTSTAMP:20260424T023101
CREATED:20160919T191228Z
LAST-MODIFIED:20160919T191228Z
UID:6868-1478822400-1478908799@redefiningvision.org
SUMMARY:Veterans Day
DESCRIPTION:Base Supply Centers and CMS facilities are closed today. \nShare this:EmailFacebookLinkedInTwitter
URL:https://redefiningvision.org/event/veterans-day/
CATEGORIES:Holidays
END:VEVENT
BEGIN:VEVENT
DTSTART;VALUE=DATE:20161010
DTEND;VALUE=DATE:20161011
DTSTAMP:20260424T023101
CREATED:20160919T191150Z
LAST-MODIFIED:20160919T191150Z
UID:6866-1476057600-1476143999@redefiningvision.org
SUMMARY:Columbus Day
DESCRIPTION:Base Supply Centers and CMS facilities are closed today. \nShare this:EmailFacebookLinkedInTwitter
URL:https://redefiningvision.org/event/columbus-day/
CATEGORIES:Holidays
END:VEVENT
END:VCALENDAR